{"text_format":"3","workbook":"xlsx","n_sheets":4,"sheets":["Principal","Feats, items, circles","Special abilites and Attacks","Guide"],"not_rendered":{"comments":2},"read":"whole","date_system":"1900"}

{"sheet":"Principal","index":0,"n_rows":81,"n_cols":20,"rows_kept":81,"merged":[[1,11,1,12],[2,11,2,12],[4,11,4,12],[5,11,5,12],[6,11,6,12],[7,11,7,12],[8,10,9,10],[8,11,8,24],[9,0,9,4],[9,11,9,24],[10,11,10,15],[12,10,12,14],[14,17,14,18],[15,17,15,18],[16,17,16,18],[17,17,17,18],[18,17,18,18],[21,1,21,5],[26,1,26,5],[32,12,32,13],[33,12,33,13],[34,12,34,13],[35,0,35,1],[35,12,35,13],[36,0,36,1],[36,12,36,13],[37,0,37,1],[38,0,38,1],[39,0,39,1],[39,5,39,6],[40,0,40,1],[41,0,41,1]]}
["Sheet",{"$nulls":9},"Level",1,null,"Size",{"$f":"OFFSET(A$59,MATCH(N2,A60:A64,0),1)","v":2}]
["Abilities","Base","Race","Item","Level","Total","Mod",null,"KOM ","Caracteristica","Race",null,null,"Medium"]
["Strenght",10,null,null,{"$f":"OFFSET(R$23,MATCH(A3,R$24:R$29,0),2)","v":0},{"$f":"SUM(B3:E3)","v":10},{"$f":"(F3-10)/2","v":0},null,{"$f":"OFFSET(A$2,MATCH(J3,A$3:A$8,0),6)","v":0},"Strenght","Class"]
["Dextery",10,null,null,{"$f":"OFFSET(R$23,MATCH(A4,R$24:R$29,0),2)","v":0},{"$f":"SUM(B4:E4)","v":10},{"$f":"(F4-10)/2","v":0},null,"KDM","Caracteristica",{"$nulls":3},"Higher Circle"]
["Constitution",20,null,null,0,20,5,null,{"$f":"OFFSET(A$2,MATCH(J5,A$3:A$8,0),6)","v":0},"Charisma","Fast",null,null,{"$f":" INT((L$1+3)/3)","v":1}]
["Intelligence",10,null,null,{"$f":"OFFSET(R$23,MATCH(A6,R$24:R$29,0),2)","v":0},10,0,{"$nulls":3},"Medium",null,null,{"$f":" INT((L$1+2)/3)","v":1}]
["Wisdom",10,null,null,0,10,0,{"$nulls":3},"Slow",null,null,{"$f":" INT((L$1+1)/3)","v":0}]
["Charisma",10,null,null,0,10,0,{"$nulls":3},"FBI",null,null,{"$f":" INT((L$1+2)/3)","v":1}]
[{"$nulls":10},"Description"]
["Velocidad",{"$nulls":5},"HP Base",10]
["Total","Base","Level","Athletics","Other",null,"BAB","Good",{"$f":"OFFSET(A53,MATCH(H11,A54:A57,0),1)","v":1},null,"Name"]
[{"$f":"SUM(B12:E12)","v":30},{"$f":" 30 - (5*INT((51-O1)/50))+ (5*INT(O1/3))","v":30},{"$f":" INT((L1+1)/3) * 5","v":0},{"$f":" (INT(OFFSET(A$66,MATCH(L16,A$67:A$69,0),1))*(INT(M16/5)+1))*5","v":0},null,null,"Fortitude","Good",{"$f":"OFFSET(A$53,MATCH(H12,A$54:A$57,0),1)","v":1}]
[{"$nulls":6},"Reflex","Bad",{"$f":"OFFSET(A$53,MATCH(H13,A$54:A$57,0),1)","v":0.5},null,"Skills"]
["Movement",{"$nulls":5},"Will","Good",1,null,"Skill","Trained","Ranks","Ability Mod","Other","Total",null,"Racial Traits"]
["Fly",{"$nulls":9},"Acrobatics","Untrained",{"$f":" INT(OFFSET(A$66,MATCH(L15,A$67:A$69,0),1)*L$1)","v":0},{"$f":"G4","v":0},null,{"$f":"SUM(M15:O15)","v":0}]
["Swim",null,null,"Red HP","Temp HP","HP","Max HP","HP extra",null,null,"Athletism","Untrained",{"$f":" INT(OFFSET(A$66,MATCH(L16,A$67:A$69,0),1)*L$1)","v":0},{"$f":"G3","v":0},null,{"$f":"SUM(M16:O16)","v":0}]
["Fly High",{"$nulls":5},{"$f":"(H10+I5)*(L1+1)-D17+H17","v":20},0,null,null,"Larceny","Untrained",0,{"$f":"G4","v":0},null,0]
["Burrow",{"$nulls":9},"Stealth","Untrained",0,{"$f":"G4","v":0},null,0]
[{"$nulls":10},"Ride","Untrained",0,{"$f":"G4","v":0},null,0]
["AC","Base","Size","Item","Deflect","KDM","Level","Other",null,null,"Vigor","Trained",{"$f":" INT(OFFSET(A$66,MATCH(L20,A$67:A$69,0),1)*L$1)","v":1},{"$f":"G5","v":5},null,6]
[{"$f":"SUM(B21:H21)","v":11},10,{"$f":"INT((100-O1)/99)-INT((O1+100)/103)","v":0},null,null,{"$f":"I5","v":0},{"$f":"L1","v":1},{"$nulls":3},"Arcane","Untrained",0,{"$f":"G$6","v":0},null,0]
["Conditional",{"$nulls":9},"Engineering","Untrained",0,{"$f":"G$6","v":0},null,0]
["Saves","Total","Base","Ability","Item","Misc",null,"Initiative","Extras",null,"Geography","Untrained",0,0,null,0,null,"Característica","Nivel","Bono"]
["Fortitude",{"$f":"SUM(C24:F24)","v":9},{"$f":"(INT(I12+0.4)*2)+INT((L$1+2)*I12-1)","v":4},{"$f":"MAX(G3,G5)","v":5},{"$nulls":3},{"$f":"G4+I24","v":0},null,null,"History","Untrained",0,0,null,0,null,"Charisma","Nv2",{"$f":"2*INT((L$1+3)/5)","v":0}]
["Reflex",{"$f":"SUM(C25:F25)","v":0},{"$f":"(INT(I13+0.4)*2)+INT((L$1+2)*I13-1)","v":0},{"$f":"MAX(G4,G6)","v":0},{"$nulls":6},"Medicine","Untrained",0,0,null,0,null,"Constitution","Nv5",{"$f":"2*INT((L$1+95)/100) + 2*INT((L$1+91)/100) + 2*INT((L$1+86)/100) + 2*INT((L$1+82)/100)","v":0}]
["Will",4,{"$f":"(INT(I14+0.4)*2)+INT((L$1+2)*I14-1)","v":4},{"$f":"MAX(G7,G8)","v":0},{"$nulls":3},"Alcances","Range","Extra","Nature","Untrained",0,0,null,0,null,"Intelligence","Nv7",{"$f":"2*INT((L$1-1)/6)","v":0}]
["Conditional",{"$nulls":6},"Melee",{"$f":" 5 + (INT(L$1/5) +J27+ INT(O1/3) + INT(O1/4))*5","v":5},null,"Bluff","Untrained",0,{"$f":"G$8","v":0},null,0,null,"Wisdom","Nv10",{"$f":" 2*INT((L$1+90)/100) + 2*INT((L$1+85)/100) + 2*INT((L$1+80)/100)","v":0}]
[{"$nulls":7},"Close",{"$f":" 25 + (INT(L$1/2) +J28)*5","v":25},null,"Diplomacy","Untrained",0,{"$f":"G$8","v":0},null,0,null,"Strenght","No",0]
["Defenses","Total","Base","Level","Ability","Other",null,"Medium",{"$f":" 100 + (INT(L$1*2) +J29)*5","v":110},null,"Intimidate","Untrained",0,0,null,0,null,"Dextery","No",0]
["Awareness",{"$f":"SUM(C30:F30)","v":11},10,{"$f":"L$1","v":1},{"$f":"G7","v":0},null,null,"Long",{"$f":" 400 + (INT(L$1*8) +J30)*5","v":440},null,"Perception","Untrained",0,{"$f":"G7","v":0},null,0]
["Vs Diplomacy",{"$f":"SUM(C31:F31)","v":11},10,{"$f":"L$1","v":1},{"$f":"G6","v":0},null,null,"Extreme",{"$f":" 1000 + (INT(L$1*20) +J31)*5","v":1100}]
["Vs Bluff",11,10,{"$f":"L$1","v":1},{"$f":"G7","v":0}]
["Vs Perception",11,10,1,{"$f":"G8","v":0},null,null,"CD Maneuvers","Size","Ability","Level",null,"Vision",null,"Yes/No","Range"]
["Vs Intimidate",11,10,{"$f":"L1","v":1},{"$f":"G8","v":0},null,null,{"$f":" 10+I34+J34+INT(K34/2)","v":10},{"$f":" 0 - (2*INT((51-O1)/50))+ (2*INT(O1/3))","v":0},{"$f":"MAX(G3:G4)","v":0},{"$f":"L1","v":1},null,"Darkvision",null,null,"NA"]
[{"$nulls":12},"Blindsight"]
["Resistance",null,"Grade","Number",{"$nulls":8},"Ghostsight"]
[null,null,"No ",{"$f":"INT(OFFSET(A$71,MATCH(C37,A$72:A$76,0),1)/2*L$1)","v":0},null,"DR",null,"Extra",{"$nulls":4},"Tremorsense"]
[null,null,"No ",{"$f":"INT(OFFSET(A$71,MATCH(C38,A$72:A$76,0),1)/2*L$1)","v":0},null,{"$f":"INT(G5/(2-(INT((M20+90)/100))))","v":2}]
[null,null,"No ",0]
[null,null,"No ",0,null,"Fast Healing"]
[null,null,"No ",0]
[null,null,"No ",0]
{"$rows_empty":10}
["Contantes, no tocar"]
["Good",1]
["Regular",0.75]
["Good",0.666]
["Bad",0.5]
[]
["Sizes"]
["Tiny",0]
["Small",1]
["Medium",2]
["Large",3]
["Huge",4]
[]
["Skills"]
["Trained",1]
["Untrained",0]
[]
[]
["Resistance"]
["Lesser",1]
["Normal",2]
["Greater",4]
["Immunity",10000000]
["No ",0]
[]
["HP Base"]
[8]
[10]
[12]

{"sheet":"Feats, items, circles","index":1,"n_rows":72,"n_cols":8,"rows_kept":72,"merged":[[0,2,0,8],[1,2,1,8],[2,2,2,8],[3,2,3,8],[4,2,4,8],[5,2,5,8],[6,2,6,8],[7,2,7,8],[8,2,8,8],[9,2,9,8],[10,2,10,8],[11,2,11,8],[12,2,12,8],[14,0,14,1],[14,2,14,3],[14,4,14,13],[15,0,15,1],[15,2,15,3],[15,4,15,13],[16,0,16,1],[16,2,16,3],[16,4,16,13],[17,0,17,1],[17,2,17,3],[17,4,17,13],[18,0,18,1],[18,2,18,3],[18,4,18,13],[19,0,19,1],[19,2,19,3],[19,4,19,13],[20,0,20,1],[20,2,20,3],[20,4,20,13],[21,0,21,1],[21,2,21,3],[21,4,21,13],[22,0,22,1],[22,2,22,3],[22,4,22,13],[23,0,23,1],[23,2,23,3],[23,4,23,13],[24,0,24,1],[24,2,24,3],[24,4,24,13],[25,0,25,1],[25,2,25,3],[25,4,25,13],[26,0,26,1],[26,2,26,3],[26,4,26,13],[27,0,27,1],[27,2,27,3],[27,4,27,13],[28,0,28,1],[28,2,28,3],[28,4,28,13],[29,0,29,1],[29,2,29,3],[29,4,29,13],[31,0,31,1],[31,2,31,13],[32,0,32,1],[32,2,32,13],[34,1,34,5],[35,1,35,7],[36,1,36,7],[37,1,37,7],[38,1,38,7],[39,1,39,7],[40,1,40,7],[41,1,41,7],[44,1,44,5],[45,1,45,7],[46,1,46,7],[47,1,47,7],[48,1,48,7],[49,1,49,7],[50,1,50,7],[51,1,51,7],[54,1,54,5],[55,1,55,7],[56,1,56,7],[57,1,57,7],[58,1,58,7],[59,1,59,7],[60,1,60,7],[61,1,61,7],[64,1,64,5],[65,1,65,7],[66,1,66,7],[67,1,67,7],[68,1,68,7],[69,1,69,7],[70,1,70,7],[71,1,71,7]]}
["Feat","Name","Description"]
["Race"]
[1]
[3]
[6]
[9]
[12]
[15]
[18]
["Other"]
["Other"]
["Other"]
["Other"]
[]
["Magic Items",null,"Name",null,"Description"]
["Lesser, 1/6"]
["Lesser, 4/X"]
["Lesser, 7/X"]
["Lesser, 11/X"]
["Lesser, 19/X"]
["Greater, 5/11"]
["Greater, 8X"]
["Greater, 13/X"]
["Greater, 16/X"]
["Relic, 10/17"]
["Relic, 14/X"]
["Artifact, 17/X"]
["Other"]
["Other"]
["Other"]
[]
["Other items"]
["Consumables"]
[]
["Fast",{"$nulls":5},"DC",{"$f":"INT(Principal!L$1/2)+10+(Principal!I$3)","v":10}]
["1st Circle"]
["2nd Circle"]
["3rd Circle"]
["4th Circle"]
["5th Circle"]
["6th Circle"]
["7th Circle"]
[]
[]
["Medium",{"$nulls":5},"DC",{"$f":"INT(Principal!L$1/2)+10+(Principal!I$3)","v":10}]
["1st Circle"]
["2nd Circle"]
["3rd Circle"]
["4th Circle"]
["5th Circle"]
["6th Circle"]
["7th Circle"]
[]
[]
["Slow",{"$nulls":5},"DC",{"$f":"INT(Principal!L$1/2)+10+(Principal!I$3)","v":10}]
["1st Circle"]
["2nd Circle"]
["3rd Circle"]
["4th Circle"]
["5th Circle"]
["6th Circle"]
["7th Circle"]
[]
[]
["FBI",{"$nulls":5},"DC",{"$f":"INT(Principal!L$1/2)+10+(Principal!I$3)","v":10}]
["1st Circle"]
["2nd Circle"]
["3rd Circle"]
["4th Circle"]
["5th Circle"]
["6th Circle"]
["7th Circle"]

{"sheet":"Special abilites and Attacks","index":2,"n_rows":12,"n_cols":19,"rows_kept":12,"merged":[[0,0,0,3],[3,0,3,1],[3,12,3,13],[4,0,4,1],[5,0,5,1],[6,0,6,1],[7,0,7,1],[8,0,8,1],[10,0,10,5],[10,7,10,10],[10,13,10,14],[11,0,11,1],[11,2,11,5],[11,7,11,10],[12,0,12,1],[12,2,12,5],[12,7,12,10],[13,0,13,1],[13,2,13,5],[13,7,13,10],[14,0,14,1],[14,2,14,5],[14,7,14,10],[15,0,15,1],[15,2,15,5],[15,7,15,10]]}
["Weapons",{"$nulls":4},"Iterative atacs",null,{"$f":"INT(C5/5)","v":0},{"$nulls":10},"Don't touch"]
[{"$nulls":18},0]
[{"$nulls":18},1]
["Name",null,"BAB","Brutal","Item","Size","KOM","Str","Bonus Dmg","Extra attack","Normal attack","Iterative","Damage",null,null,"Brutal Arcane","Bonus on magic",null,2]
["Unarmed Strike",null,{"$f":" INT(Principal!I$11*Principal!L1)","v":1},0,null,{"$f":"Principal!C$21","v":0},{"$f":"Principal!I$3","v":0},{"$f":"MAX(0,INT(Principal!G$3/2))","v":0},null,null,{"$f":"C5+F5+E5+G5+J5","v":1},{"$f":"K5-5","v":-4},"1d6+",{"$f":" D5 + ( (INT((D5+5)/6)*INT(Principal!L$1*D5/6))) + G5 + H5 + I5","v":0},null,0,{"$f":" P5 + ( (INT((P5+5)/6)*INT(Principal!L$1*P5/6)))","v":0},null,3]
[null,null,{"$f":" INT(Principal!I$11*Principal!L1)","v":1},0,null,{"$f":"Principal!C$21","v":0},{"$f":"Principal!I$3","v":0},{"$f":"MAX(0,INT(Principal!G$3/2))","v":0},null,null,{"$f":"C6+F6+E6+G6+J6","v":1},{"$f":"K6-5","v":-4},"1d6+",{"$f":" D6 + ( (INT((D6+5)/6)*INT(Principal!L$1*D6/6))) + G6 + H6 + I6","v":0},null,0,{"$f":" P6 + ( (INT((P6+5)/6)*INT(Principal!L$1*P6/6)))","v":0}]
[null,null,{"$f":" INT(Principal!I$11*Principal!L1)","v":1},0,null,{"$f":"Principal!C$21","v":0},{"$f":"Principal!I$3","v":0},{"$f":"MAX(0,INT(Principal!G$3/2))","v":0},null,null,1,-4,"1d6+",{"$f":" D7 + ( (INT((D7+5)/6)*INT(Principal!L$1*D7/6))) + G7 + H7 + I7","v":0},null,0,{"$f":" P7 + ( (INT((P7+5)/6)*INT(Principal!L$1*P7/6)))","v":0}]
[null,null,{"$f":" INT(Principal!I$11*Principal!L1)","v":1},0,null,{"$f":"Principal!C$21","v":0},{"$f":"Principal!I$3","v":0},{"$f":"MAX(0,INT(Principal!G$3/2))","v":0},null,null,1,-4,"1d6+",{"$f":" D8 + ( (INT((D8+5)/6)*INT(Principal!L$1*D8/6))) + G8 + H8 + I8","v":0},null,0,{"$f":" P8 + ( (INT((P8+5)/6)*INT(Principal!L$1*P8/6)))","v":0}]
[null,null,{"$f":" INT(Principal!I$11*Principal!L1)","v":1},0,null,{"$f":"Principal!C$21","v":0},{"$f":"Principal!I$3","v":0},{"$f":"MAX(0,INT(Principal!G$3/2))","v":0},null,null,1,-4,"1d6+",null,null,0,{"$f":" P9 + ( (INT((P9+5)/6)*INT(Principal!L$1*P9/6)))","v":0}]
[]
["Weapons",{"$nulls":5},"Reach","Information",{"$nulls":4},"Magnum","Point Blank"]
["Unarmed Strike",null,"No properties, melee",{"$nulls":3},{"$f":"Principal!I27","v":5},"Natural",{"$nulls":4},{"$f":"INT(2+(Principal!L1/4))","v":2},{"$f":" 1 + INT(Principal!L1/7)","v":1},"d4"]

{"sheet":"Guide","index":3,"n_rows":61,"n_cols":3,"rows_kept":61}
["Standard Action"]
["Full attack",null,"Full attack :D"]
["Run",null,"No AdO, move base speed"]
["Charge","Maneuver","Move base speed and attack, minium 10', +2 attack, -2 AC"]
["Bullrush","Maneuver","Push 5' + Half speed"]
["Disarm","Maneuver","Atack and disarm, reflex save"]
["Grapple","Maneuver","Attack and grapple, reflex save"]
["Pin","Maneuver","Attack and inmovilize your oponent, fortitude save"]
["Trip","Maneuver","Attack and trip your oponent, reflex save"]
{"$rows_empty":12}
["Move Action"]
["Move",null,"provoques ado, move your base speed, half with partial"]
["Drag","Maneuver","Move grappled with you"]
["Ghoke","Maneuver","Damage pinned opponent"]
["Fight Defensive",null,"No power attack nor deadly aim"]
{"$rows_empty":8}
["Swift Action","Type"]
["Consumable",null,"Provoques AdO"]
["Identify creature",null,"Knowledge skill"]
["Change Weaponry"]
{"$rows_empty":12}
["Partial","Type","Combined with main action"]
[]
[]
[]
[]
[]
[]
["Free"]
["5' Step",null,"Not moved only"]
["Power Attack/Deadly Aim",null,"Change 1 attack for 2 damage, limit your level, cannot be used with precise strike"]
["Precise Attack",null,"Change 3 damage for 1 attack and 2 RD Penetration, limit your level"]